BEGIN:VCALENDAR
VERSION:2.0
PRODID:-//AudioTheme 3.0.2
BEGIN:VEVENT
UID:http://www.ramonaborthwick.com/blog/?post_type=audiotheme_gig&#038;p=995
URL:https://www.ramonaborthwick.com/events/jazzblest/
DTSTART;TZID=GMT:20150111T153000
SUMMARY:JazzBlest
DESCRIPTION:Original jazz compositions and service music scored by Ramona Borthwick to lyrics by The Rev’d Gretchen Grimshaw. Performed by the St. Paul's Church choir with jazz quartet featuring Ramona Borthwick (piano)\, Tucker Antell (saxes/flute)\, Victor Belanger (bass)\, Patrick Simard (drums).
LOCATION:St. Paul's Episcopal Church\, 1135 Walnut St.\, Newton Highlands\, MA\, USA\,  02461
END:VEVENT
END:VCALENDAR
