BEGIN:VCALENDAR
VERSION:2.0
PRODID:-//AudioTheme 3.0.2
BEGIN:VEVENT
UID:http://www.ramonaborthwick.com/?post_type=audiotheme_gig&#038;p=1594
URL:https://www.ramonaborthwick.com/events/gig-1594/
DTSTART;TZID=GMT:20110507T000000
SUMMARY:May 7, 2011
DESCRIPTION:Piano Solo (private event)
END:VEVENT
END:VCALENDAR
